BEGIN:VCALENDAR
VERSION:2.0
PRODID:-//Le site de la paroisse de Kervignac - ECPv6.3.2//NONSGML v1.0//EN
CALSCALE:GREGORIAN
METHOD:PUBLISH
X-WR-CALNAME:Le site de la paroisse de Kervignac
X-ORIGINAL-URL:https://paroisse-kervignac.fr
X-WR-CALDESC:évènements pour Le site de la paroisse de Kervignac
REFRESH-INTERVAL;VALUE=DURATION:PT1H
X-Robots-Tag:noindex
X-PUBLISHED-TTL:PT1H
BEGIN:VTIMEZONE
TZID:UTC
BEGIN:STANDARD
TZOFFSETFROM:+0000
TZOFFSETTO:+0000
TZNAME:UTC
DTSTART:20260101T000000
END:STANDARD
END:VTIMEZONE
BEGIN:VEVENT
DTSTART;TZID=UTC:20260227T170000
DTEND;TZID=UTC:20260403T160000
DTSTAMP:20260420T110420
CREATED:20260227T190922Z
LAST-MODIFIED:20260227T191054Z
UID:4027-1772211600-1775232000@paroisse-kervignac.fr
SUMMARY:Carême - Chemins de croix
DESCRIPTION:Dates des chemins de croix dans les chapelles à  17h00 les vendredis – suivis de la messe à 18h00\n27 février – Chapelle de St Efflam – village de St Efflam\n6 mars: chapelle de Locadour – village de Locadour\n13 mars: chapelle de Locmaria – village de Locmaria\n20 mars: chapelle de St Laurent – village de St Laurent \nVendredi Saint 3 avril: Chemin de croix à 15h00 dans l’église paroissiale.\nL »office de la Passion de Notre Seigneur Jésus-Christ sera célébré en soiré à une heure définie ultérieurement.
URL:https://paroisse-kervignac.fr/evenement/careme-chemins-de-croix/
CATEGORIES:Evènement accueil
ATTACH;FMTTYPE=image/jpeg:https://paroisse-kervignac.fr/wp-content/uploads/2017/03/d8826e9f-a44d-4c13-9554-0682f91bc384.jpeg
END:VEVENT
BEGIN:VEVENT
DTSTART;TZID=UTC:20260308T103000
DTEND;TZID=UTC:20260308T113000
DTSTAMP:20260420T110420
CREATED:20260225T145604Z
LAST-MODIFIED:20260225T145604Z
UID:4021-1772965800-1772969400@paroisse-kervignac.fr
SUMMARY:3ème dimanche de Carême - messe des familles
DESCRIPTION:Messe à l’église\nRemise de la croix aux enfants de 1ère année de catéchèse\nIntention de messe pour Yann CARRER. \nInformations:\nPermanences au presbytère: du mardi au samedi de 10h00 à midi\nMesses en semaine à la crypte:\n– Du mardi au vendredi à 18h00 – le mercredi la messe est suivie d’un temps d’adoration eucharistique jusqu’à 19h30\n– Samedi: messe à 9h00 suivie d’un temps d’adoration eucharistique jusqu’à 10h30\n  possibilité de confessions individuelles pendant l’adoration.
URL:https://paroisse-kervignac.fr/evenement/3eme-dimanche-de-careme-messe-des-familles/
CATEGORIES:Evènement accueil
ATTACH;FMTTYPE=image/jpeg:https://paroisse-kervignac.fr/wp-content/uploads/2022/11/eucharistie-photo.jpg
END:VEVENT
END:VCALENDAR