BEGIN:VCALENDAR
VERSION:2.0
PRODID:-//Le site de la paroisse de Kervignac - ECPv6.3.2//NONSGML v1.0//EN
CALSCALE:GREGORIAN
METHOD:PUBLISH
X-WR-CALNAME:Le site de la paroisse de Kervignac
X-ORIGINAL-URL:https://paroisse-kervignac.fr
X-WR-CALDESC:évènements pour Le site de la paroisse de Kervignac
REFRESH-INTERVAL;VALUE=DURATION:PT1H
X-Robots-Tag:noindex
X-PUBLISHED-TTL:PT1H
BEGIN:VTIMEZONE
TZID:UTC
BEGIN:STANDARD
TZOFFSETFROM:+0000
TZOFFSETTO:+0000
TZNAME:UTC
DTSTART:20260101T000000
END:STANDARD
END:VTIMEZONE
BEGIN:VEVENT
DTSTART;TZID=UTC:20260222T103000
DTEND;TZID=UTC:20260222T113000
DTSTAMP:20260421T004100
CREATED:20260219T191242Z
LAST-MODIFIED:20260219T191446Z
UID:4014-1771756200-1771759800@paroisse-kervignac.fr
SUMMARY:1er dimanche de Carême - année A
DESCRIPTION:Messe à l’église.\nIntention de messe pour Monique Le CARRER. \nInformations:\nPermanences au presbytère: du mardi au samedi de 10h00 à midi\nMesses en semaine à la crypte:\n– Du mardi au vendredi à 18h00 – le mercredi la messe est suivie d’un temps d’adoration eucharistique jusqu’à 19h30\n– Samedi: messe à 9h00 suivie d’un temps d’adoration eucharistique jusqu’à 10h30\n  possibilité de confessions individuelles pendant l’adoration.
URL:https://paroisse-kervignac.fr/evenement/1er-dimanche-de-careme-annee-a/
CATEGORIES:Evènement accueil
ATTACH;FMTTYPE=image/jpeg:https://paroisse-kervignac.fr/wp-content/uploads/2022/11/eucharistie-photo.jpg
END:VEVENT
END:VCALENDAR