BEGIN:VCALENDAR
VERSION:2.0
PRODID:-//Le site de la paroisse de Kervignac - ECPv6.3.2//NONSGML v1.0//EN
CALSCALE:GREGORIAN
METHOD:PUBLISH
X-WR-CALNAME:Le site de la paroisse de Kervignac
X-ORIGINAL-URL:https://paroisse-kervignac.fr
X-WR-CALDESC:évènements pour Le site de la paroisse de Kervignac
REFRESH-INTERVAL;VALUE=DURATION:PT1H
X-Robots-Tag:noindex
X-PUBLISHED-TTL:PT1H
BEGIN:VTIMEZONE
TZID:UTC
BEGIN:STANDARD
TZOFFSETFROM:+0000
TZOFFSETTO:+0000
TZNAME:UTC
DTSTART:20260101T000000
END:STANDARD
END:VTIMEZONE
BEGIN:VEVENT
DTSTART;TZID=UTC:20260208T103000
DTEND;TZID=UTC:20260208T113000
DTSTAMP:20260420T132129
CREATED:20260131T190525Z
LAST-MODIFIED:20260204T154657Z
UID:4003-1770546600-1770550200@paroisse-kervignac.fr
SUMMARY:5ème dimanche du temps ordinaire - année A
DESCRIPTION:Messe à l’église\nIntentions de messe pour Thérèse ALISE et Marie-Thérèse CADIC \nAnnonces:\nMesse à la crypte en semaine:\n– du mardi au vendredi à 18h00 – le mercredi la messe est suivie d’un temps d’adoration jusqu’à 19h30\n– samedi matin à 9h00 suivie d’un temps d’adoration jusqu’à 10h30 – possibilité de confessions individuelles pendant le temps d’adoration \nPermanences au presbytère du mardi au samedi de 10h00 à midi
URL:https://paroisse-kervignac.fr/evenement/5eme-dimanche-du-temps-ordinaire-annee-a/
CATEGORIES:Evènement accueil
ATTACH;FMTTYPE=image/jpeg:https://paroisse-kervignac.fr/wp-content/uploads/2017/03/e15dd934-a1f7-4f06-84ff-b847b6e57a71.jpeg
END:VEVENT
END:VCALENDAR