BEGIN:VCALENDAR
VERSION:2.0
PRODID:-//Le site de la paroisse de Kervignac - ECPv6.3.2//NONSGML v1.0//EN
CALSCALE:GREGORIAN
METHOD:PUBLISH
X-WR-CALNAME:Le site de la paroisse de Kervignac
X-ORIGINAL-URL:https://paroisse-kervignac.fr
X-WR-CALDESC:évènements pour Le site de la paroisse de Kervignac
REFRESH-INTERVAL;VALUE=DURATION:PT1H
X-Robots-Tag:noindex
X-PUBLISHED-TTL:PT1H
BEGIN:VTIMEZONE
TZID:UTC
BEGIN:STANDARD
TZOFFSETFROM:+0000
TZOFFSETTO:+0000
TZNAME:UTC
DTSTART:20250101T000000
END:STANDARD
END:VTIMEZONE
BEGIN:VEVENT
DTSTART;TZID=UTC:20250406T103000
DTEND;TZID=UTC:20250406T113000
DTSTAMP:20260422T095822
CREATED:20250328T093234Z
LAST-MODIFIED:20250328T100416Z
UID:3759-1743935400-1743939000@paroisse-kervignac.fr
SUMMARY:5ème dimanche de Carême - année C
DESCRIPTION:Messe dominicale à l’église à 10h30\nIntention de messe pour Annick BRUCHEC\nMesse de huitaine pour Hervé KERNIN \nAnnonces:\nAccueil au Presbytère Le matin de 10h00 à 12h00 (sauf le lundi).\nMesses en semaine à la crypte du mardi au jeudi à 18h00\nLe mercredi après la messe de 18h00 adoration du St Sacrement jusqu’à 19h30 \nSamedi : messe à 9h00 suivie de l’adoration possibilité de confessions individuelles pendant l’adoration jusqu’à 10h30 \nCe dimanche:\nA 14h30 à l’église  Prière en l’honneur de sainte Philomène suivie vers 16h00 de la messe avec onction d’huile et vénération de la relique en fin de messe   Goûter partagé au presbytère après la messe \nChorale pour les célébrations de Pâques\nchaque vendredi à 20h15 au presbytère \nPendant le Carême dans nos chapelles\n17h00 Chemin de croix	18h00 messe\nVendredi 11 avril à Saint Laurent \nCélébrations de Pâques:\nDimanche 13 avril: Dimanche des Rameaux\nMesse à l’église à 10h30 avec bénédiction des rameaux \nCélébration pénitentielle à l’église avec absolution individuelle à 18h00\nJeudi 17 avril – Jeudi Saint: messe à 19h00 à l’église suivie d’une adoration commune de 20h00 à 21h00 à la crypte\,\npuis adoration individuelle de 21h00 jusqu’à 9h00 le vendredi matin – merci de vous inscrire sur la feuille au fond de l’église \nVendredi Saint 18 avril: .\nOffice des Laudes à la crypte à 9h00\nChemin de Croix dans l’église à 15h00\nOffice de la Croix dans l’église à 19h00 \nSamedi 19 avril:\nde 10h00 à midi: confessions individuelles dans l’église\n20h30: veillée pascale suivie de la messe de la résurrection \nDimanche 20 avril:\nmesse du jour de pâques à 10h30 dans l’église.
URL:https://paroisse-kervignac.fr/evenement/5eme-dimanche-de-careme-annee-c/
CATEGORIES:Evènement accueil
ATTACH;FMTTYPE=image/jpeg:https://paroisse-kervignac.fr/wp-content/uploads/2017/02/eucharistie.jpg
END:VEVENT
END:VCALENDAR