BEGIN:VCALENDAR
VERSION:2.0
PRODID:-//Le site de la paroisse de Kervignac - ECPv6.3.2//NONSGML v1.0//EN
CALSCALE:GREGORIAN
METHOD:PUBLISH
X-WR-CALNAME:Le site de la paroisse de Kervignac
X-ORIGINAL-URL:https://paroisse-kervignac.fr
X-WR-CALDESC:évènements pour Le site de la paroisse de Kervignac
REFRESH-INTERVAL;VALUE=DURATION:PT1H
X-Robots-Tag:noindex
X-PUBLISHED-TTL:PT1H
BEGIN:VTIMEZONE
TZID:UTC
BEGIN:STANDARD
TZOFFSETFROM:+0000
TZOFFSETTO:+0000
TZNAME:UTC
DTSTART:20240101T000000
END:STANDARD
END:VTIMEZONE
BEGIN:VEVENT
DTSTART;TZID=UTC:20241016T080000
DTEND;TZID=UTC:20250317T170000
DTSTAMP:20260420T201356
CREATED:20241016T083512Z
LAST-MODIFIED:20250328T100735Z
UID:3598-1729065600-1742230800@paroisse-kervignac.fr
SUMMARY:Organiste
DESCRIPTION:La paroisse de Kervignac recherche un organiste bénévole pour les messes dominicales.\nS’adresser au Père Bruno 02 97 65 77 04 ou au 06 75 00 95 80
URL:https://paroisse-kervignac.fr/evenement/organiste/
CATEGORIES:Evènement accueil
ATTACH;FMTTYPE=image/jpeg:https://paroisse-kervignac.fr/wp-content/uploads/2017/03/e15dd934-a1f7-4f06-84ff-b847b6e57a71.jpeg
END:VEVENT
BEGIN:VEVENT
DTSTART;TZID=UTC:20250202T103000
DTEND;TZID=UTC:20250202T103000
DTSTAMP:20260420T201356
CREATED:20250122T094634Z
LAST-MODIFIED:20250122T094732Z
UID:3703-1738492200-1738492200@paroisse-kervignac.fr
SUMMARY:Messe dominicale
DESCRIPTION:Solennité de la Présentation de Jésus au temple – messe à 10h30 à l’église\nBénédiction des cierges au début de la messe \nA 14h30 à l’église : après-midi de prière en l’honneur de Ste Philomène\nmesse vers 16h30 avec vénération de la relique et onction d’huile à la fin de la messe – goûter partagé au presbytère vers 18h00 \nAnnonces: \nACCUEIL au Presbytère le matin de 10h00 à 12h00 (sauf le lundi).\nMesses en semaine à la crypte : Mardi au vendredi à 18h00\nLe mercredi après la messe Adoration du St Sacrement jusqu’à 19h15\nSamedi : messe à 9h00 suivie de l’adoration – possibilité de confessions individuelles pendant l’adoration \nDimanche 9 février: 5ème dimanche du temps ordinaire – année C\nMesse à l’église à 10h30 \nChauffage de l’église   Le chauffage de l’église s’élève 736€ pour 2 mois\nUne participation vous est proposée\nA cette fin\, des enveloppes sont à votre disposition sur la table au fond de l’église. Merci de déposer ces enveloppes dans les paniers de quêtes.
URL:https://paroisse-kervignac.fr/evenement/messe-dominicale-72/
CATEGORIES:Evènement accueil
ATTACH;FMTTYPE=image/jpeg:https://paroisse-kervignac.fr/wp-content/uploads/2022/11/eucharistie-photo.jpg
END:VEVENT
END:VCALENDAR