BEGIN:VCALENDAR
VERSION:2.0
PRODID:-//Le site de la paroisse de Kervignac - ECPv6.3.2//NONSGML v1.0//EN
CALSCALE:GREGORIAN
METHOD:PUBLISH
X-WR-CALNAME:Le site de la paroisse de Kervignac
X-ORIGINAL-URL:https://paroisse-kervignac.fr
X-WR-CALDESC:évènements pour Le site de la paroisse de Kervignac
REFRESH-INTERVAL;VALUE=DURATION:PT1H
X-Robots-Tag:noindex
X-PUBLISHED-TTL:PT1H
BEGIN:VTIMEZONE
TZID:UTC
BEGIN:STANDARD
TZOFFSETFROM:+0000
TZOFFSETTO:+0000
TZNAME:UTC
DTSTART:20260101T000000
END:STANDARD
END:VTIMEZONE
BEGIN:VEVENT
DTSTART;TZID=UTC:20260426T103000
DTEND;TZID=UTC:20260426T113000
DTSTAMP:20260426T013207
CREATED:20260421T175959Z
LAST-MODIFIED:20260421T175959Z
UID:4056-1777199400-1777203000@paroisse-kervignac.fr
SUMMARY:4ème dimanche de Pâques
DESCRIPTION:Messe à l’église \nAnnonces:\n–   Cet après-midi à l’église à 18h00: vêpres suivies d’un temps d’adoration jusqu’à 19h00.\n–   Messes en semaines à la crypte:\ndu mardi au vendredi à 18h00. Le mercredi\, la messe est suivie d’un temps d’adoration jusqu’à 19h30.\nle samedi matin à 9h00\, messe à 9h00 suivie d’un temps d’adoration jusqu’à 10h30 – possibilité de confessions individuelles pendant l’adoration. \nDimanche 26 avril\, messe à l’église à 1030 – intention de messe pour Monique Le CARRER.
URL:https://paroisse-kervignac.fr/evenement/4eme-dimanche-de-paques/
CATEGORIES:Evènement accueil
ATTACH;FMTTYPE=image/jpeg:https://paroisse-kervignac.fr/wp-content/uploads/2022/11/eucharistie-photo.jpg
END:VEVENT
BEGIN:VEVENT
DTSTART;TZID=UTC:20260426T180000
DTEND;TZID=UTC:20260426T190000
DTSTAMP:20260426T013207
CREATED:20260421T180339Z
LAST-MODIFIED:20260421T180339Z
UID:4058-1777226400-1777230000@paroisse-kervignac.fr
SUMMARY:Vêpres - adoration eucharistique
DESCRIPTION:A l’église: vêpres suivies d’un temps d’adoration.
URL:https://paroisse-kervignac.fr/evenement/vepres-adoration-eucharistique/
CATEGORIES:Evènement accueil
ATTACH;FMTTYPE=image/jpeg:https://paroisse-kervignac.fr/wp-content/uploads/2017/02/eucharistie.jpg
END:VEVENT
END:VCALENDAR